BEGIN:VCALENDAR
VERSION:2.0
PRODID:-//Grundschule Erndtebrück - ECPv6.15.20//NONSGML v1.0//EN
CALSCALE:GREGORIAN
METHOD:PUBLISH
X-ORIGINAL-URL:https://grundschule-erndtebrueck.de
X-WR-CALDESC:Veranstaltungen für Grundschule Erndtebrück
REFRESH-INTERVAL;VALUE=DURATION:PT1H
X-Robots-Tag:noindex
X-PUBLISHED-TTL:PT1H
BEGIN:VTIMEZONE
TZID:Europe/Berlin
BEGIN:DAYLIGHT
TZOFFSETFROM:+0100
TZOFFSETTO:+0200
TZNAME:CEST
DTSTART:20240331T010000
END:DAYLIGHT
BEGIN:STANDARD
TZOFFSETFROM:+0200
TZOFFSETTO:+0100
TZNAME:CET
DTSTART:20241027T010000
END:STANDARD
BEGIN:DAYLIGHT
TZOFFSETFROM:+0100
TZOFFSETTO:+0200
TZNAME:CEST
DTSTART:20250330T010000
END:DAYLIGHT
BEGIN:STANDARD
TZOFFSETFROM:+0200
TZOFFSETTO:+0100
TZNAME:CET
DTSTART:20251026T010000
END:STANDARD
BEGIN:DAYLIGHT
TZOFFSETFROM:+0100
TZOFFSETTO:+0200
TZNAME:CEST
DTSTART:20260329T010000
END:DAYLIGHT
BEGIN:STANDARD
TZOFFSETFROM:+0200
TZOFFSETTO:+0100
TZNAME:CET
DTSTART:20261025T010000
END:STANDARD
END:VTIMEZONE
BEGIN:VEVENT
DTSTART;TZID=Europe/Berlin:20250702T183000
DTEND;TZID=Europe/Berlin:20250702T200000
DTSTAMP:20260421T130714
CREATED:20250606T080525Z
LAST-MODIFIED:20250606T080525Z
UID:7245-1751481000-1751486400@grundschule-erndtebrueck.de
SUMMARY:Informationsabend Schulanfänger
DESCRIPTION:für alle Eltern\, die im August ein Kind einschulen
URL:https://grundschule-erndtebrueck.de/termin/informationsabend-schulanfaenger/
END:VEVENT
BEGIN:VEVENT
DTSTART;TZID=Europe/Berlin:20250709T070000
DTEND;TZID=Europe/Berlin:20250709T150000
DTSTAMP:20260421T130714
CREATED:20250606T080743Z
LAST-MODIFIED:20250606T080743Z
UID:7247-1752044400-1752073200@grundschule-erndtebrueck.de
SUMMARY:Schwimmwettkampf in Brilon
DESCRIPTION:nur für ausgewählte Kinder\, die bereits am Schwimmwettkampf in Dahlbruch mitgeschwommen sind.
URL:https://grundschule-erndtebrueck.de/termin/schwimmwettkampf-in-brilon/
END:VEVENT
BEGIN:VEVENT
DTSTART;TZID=Europe/Berlin:20250711T080000
DTEND;TZID=Europe/Berlin:20250711T112500
DTSTAMP:20260421T130714
CREATED:20240924T071153Z
LAST-MODIFIED:20240924T071310Z
UID:7004-1752220800-1752233100@grundschule-erndtebrueck.de
SUMMARY:Letzter Schultag vor den Sommerferien
DESCRIPTION:der Unterricht endet für alle Kinder um 11.25 Uhr
URL:https://grundschule-erndtebrueck.de/termin/letzter-schultag-vor-den-sommerferien-3/
END:VEVENT
END:VCALENDAR