BEGIN:VCALENDAR
VERSION:2.0
PRODID:-//Grundschule Erndtebrück - ECPv6.15.20//NONSGML v1.0//EN
CALSCALE:GREGORIAN
METHOD:PUBLISH
X-WR-CALNAME:Grundschule Erndtebrück
X-ORIGINAL-URL:https://grundschule-erndtebrueck.de
X-WR-CALDESC:Veranstaltungen für Grundschule Erndtebrück
REFRESH-INTERVAL;VALUE=DURATION:PT1H
X-Robots-Tag:noindex
X-PUBLISHED-TTL:PT1H
BEGIN:VTIMEZONE
TZID:Europe/Berlin
BEGIN:DAYLIGHT
TZOFFSETFROM:+0100
TZOFFSETTO:+0200
TZNAME:CEST
DTSTART:20240331T010000
END:DAYLIGHT
BEGIN:STANDARD
TZOFFSETFROM:+0200
TZOFFSETTO:+0100
TZNAME:CET
DTSTART:20241027T010000
END:STANDARD
BEGIN:DAYLIGHT
TZOFFSETFROM:+0100
TZOFFSETTO:+0200
TZNAME:CEST
DTSTART:20250330T010000
END:DAYLIGHT
BEGIN:STANDARD
TZOFFSETFROM:+0200
TZOFFSETTO:+0100
TZNAME:CET
DTSTART:20251026T010000
END:STANDARD
BEGIN:DAYLIGHT
TZOFFSETFROM:+0100
TZOFFSETTO:+0200
TZNAME:CEST
DTSTART:20260329T010000
END:DAYLIGHT
BEGIN:STANDARD
TZOFFSETFROM:+0200
TZOFFSETTO:+0100
TZNAME:CET
DTSTART:20261025T010000
END:STANDARD
END:VTIMEZONE
BEGIN:VEVENT
DTSTART;TZID=Europe/Berlin:20250604T080000
DTEND;TZID=Europe/Berlin:20250604T123000
DTSTAMP:20260421T114913
CREATED:20250410T102121Z
LAST-MODIFIED:20250410T102121Z
UID:7216-1749024000-1749040200@grundschule-erndtebrueck.de
SUMMARY:zahnärtzliche Untersuchung (Reihenuntersuchung)
DESCRIPTION:
URL:https://grundschule-erndtebrueck.de/termin/zahnaertzliche-untersuchung-reihenuntersuchung/
END:VEVENT
BEGIN:VEVENT
DTSTART;TZID=Europe/Berlin:20250605T080000
DTEND;TZID=Europe/Berlin:20250605T123000
DTSTAMP:20260421T114913
CREATED:20250410T102219Z
LAST-MODIFIED:20250410T102219Z
UID:7218-1749110400-1749126600@grundschule-erndtebrueck.de
SUMMARY:zahnärtzliche Untersuchung (Reihenuntersuchung)
DESCRIPTION:
URL:https://grundschule-erndtebrueck.de/termin/zahnaertzliche-untersuchung-reihenuntersuchung-2/
END:VEVENT
BEGIN:VEVENT
DTSTART;TZID=Europe/Berlin:20250605T190000
DTEND;TZID=Europe/Berlin:20250605T200000
DTSTAMP:20260421T114913
CREATED:20250527T083340Z
LAST-MODIFIED:20250527T083340Z
UID:7238-1749150000-1749153600@grundschule-erndtebrueck.de
SUMMARY:Schulkonferenz
DESCRIPTION:
URL:https://grundschule-erndtebrueck.de/termin/schulkonferenz-5/
END:VEVENT
BEGIN:VEVENT
DTSTART;VALUE=DATE:20250609
DTEND;VALUE=DATE:20250610
DTSTAMP:20260421T114913
CREATED:20240924T071731Z
LAST-MODIFIED:20240924T071731Z
UID:7010-1749427200-1749513599@grundschule-erndtebrueck.de
SUMMARY:Pfingsten
DESCRIPTION:schulfrei
URL:https://grundschule-erndtebrueck.de/termin/pfingsten-2/
END:VEVENT
BEGIN:VEVENT
DTSTART;VALUE=DATE:20250610
DTEND;VALUE=DATE:20250611
DTSTAMP:20260421T114913
CREATED:20240924T070952Z
LAST-MODIFIED:20240924T070952Z
UID:7000-1749513600-1749599999@grundschule-erndtebrueck.de
SUMMARY:Pfingstferientag
DESCRIPTION:schulfrei
URL:https://grundschule-erndtebrueck.de/termin/pfingstferientag/
END:VEVENT
BEGIN:VEVENT
DTSTART;TZID=Europe/Berlin:20250612T080000
DTEND;TZID=Europe/Berlin:20250612T123000
DTSTAMP:20260421T114913
CREATED:20250410T102305Z
LAST-MODIFIED:20250410T102305Z
UID:7220-1749715200-1749731400@grundschule-erndtebrueck.de
SUMMARY:zahnärtzliche Untersuchung (Reihenuntersuchung)
DESCRIPTION:
URL:https://grundschule-erndtebrueck.de/termin/zahnaertzliche-untersuchung-reihenuntersuchung-3/
END:VEVENT
BEGIN:VEVENT
DTSTART;TZID=Europe/Berlin:20250613T080000
DTEND;TZID=Europe/Berlin:20250613T121500
DTSTAMP:20260421T114913
CREATED:20250606T080108Z
LAST-MODIFIED:20250606T080108Z
UID:7241-1749801600-1749816900@grundschule-erndtebrueck.de
SUMMARY:Aktionstag Fußball
DESCRIPTION:alle Kinder aus dem Jahrgang 4 nehmen an einem Fußballtraining der Fußballschule Rondo teil.
URL:https://grundschule-erndtebrueck.de/termin/aktionstag-fussball/
END:VEVENT
BEGIN:VEVENT
DTSTART;VALUE=DATE:20250619
DTEND;VALUE=DATE:20250620
DTSTAMP:20260421T114913
CREATED:20240924T071806Z
LAST-MODIFIED:20240924T071806Z
UID:7012-1750291200-1750377599@grundschule-erndtebrueck.de
SUMMARY:Fronleichnam
DESCRIPTION:schulfrei
URL:https://grundschule-erndtebrueck.de/termin/fronleichnam-2/
END:VEVENT
BEGIN:VEVENT
DTSTART;VALUE=DATE:20250620
DTEND;VALUE=DATE:20250621
DTSTAMP:20260421T114913
CREATED:20240924T071037Z
LAST-MODIFIED:20240924T071037Z
UID:7002-1750377600-1750463999@grundschule-erndtebrueck.de
SUMMARY:beweglicher Ferientag
DESCRIPTION:schulfrei
URL:https://grundschule-erndtebrueck.de/termin/beweglicher-ferientag-7/
END:VEVENT
BEGIN:VEVENT
DTSTART;TZID=Europe/Berlin:20250624T080000
DTEND;TZID=Europe/Berlin:20250624T130500
DTSTAMP:20260421T114913
CREATED:20250606T080221Z
LAST-MODIFIED:20250606T080221Z
UID:7243-1750752000-1750770300@grundschule-erndtebrueck.de
SUMMARY:Sportfest (BJS)
DESCRIPTION:auf dem Sportplatz
URL:https://grundschule-erndtebrueck.de/termin/sportfest-bjs/
END:VEVENT
END:VCALENDAR