BEGIN:VCALENDAR
VERSION:2.0
PRODID:-//Grundschule Erndtebrück - ECPv6.15.20//NONSGML v1.0//EN
CALSCALE:GREGORIAN
METHOD:PUBLISH
X-WR-CALNAME:Grundschule Erndtebrück
X-ORIGINAL-URL:https://grundschule-erndtebrueck.de
X-WR-CALDESC:Veranstaltungen für Grundschule Erndtebrück
REFRESH-INTERVAL;VALUE=DURATION:PT1H
X-Robots-Tag:noindex
X-PUBLISHED-TTL:PT1H
BEGIN:VTIMEZONE
TZID:Europe/Berlin
BEGIN:DAYLIGHT
TZOFFSETFROM:+0100
TZOFFSETTO:+0200
TZNAME:CEST
DTSTART:20230326T010000
END:DAYLIGHT
BEGIN:STANDARD
TZOFFSETFROM:+0200
TZOFFSETTO:+0100
TZNAME:CET
DTSTART:20231029T010000
END:STANDARD
BEGIN:DAYLIGHT
TZOFFSETFROM:+0100
TZOFFSETTO:+0200
TZNAME:CEST
DTSTART:20240331T010000
END:DAYLIGHT
BEGIN:STANDARD
TZOFFSETFROM:+0200
TZOFFSETTO:+0100
TZNAME:CET
DTSTART:20241027T010000
END:STANDARD
BEGIN:DAYLIGHT
TZOFFSETFROM:+0100
TZOFFSETTO:+0200
TZNAME:CEST
DTSTART:20250330T010000
END:DAYLIGHT
BEGIN:STANDARD
TZOFFSETFROM:+0200
TZOFFSETTO:+0100
TZNAME:CET
DTSTART:20251026T010000
END:STANDARD
BEGIN:DAYLIGHT
TZOFFSETFROM:+0100
TZOFFSETTO:+0200
TZNAME:CEST
DTSTART:20260329T010000
END:DAYLIGHT
BEGIN:STANDARD
TZOFFSETFROM:+0200
TZOFFSETTO:+0100
TZNAME:CET
DTSTART:20261025T010000
END:STANDARD
END:VTIMEZONE
BEGIN:VEVENT
DTSTART;TZID=Europe/Berlin:20241223T080000
DTEND;TZID=Europe/Berlin:20250106T000000
DTSTAMP:20260421T234242
CREATED:20240823T091915Z
LAST-MODIFIED:20240823T091915Z
UID:6926-1734940800-1736121600@grundschule-erndtebrueck.de
SUMMARY:Weihnachtsferien
DESCRIPTION:
URL:https://grundschule-erndtebrueck.de/termin/weihnachtsferien/
END:VEVENT
BEGIN:VEVENT
DTSTART;TZID=Europe/Berlin:20250114T084500
DTEND;TZID=Europe/Berlin:20250114T130500
DTSTAMP:20260421T234242
CREATED:20250107T085638Z
LAST-MODIFIED:20250107T085638Z
UID:7129-1736844300-1736859900@grundschule-erndtebrueck.de
SUMMARY:Theaterpädagogische Werkstatt
DESCRIPTION:Präventionsprogramm „Mein Körper gehört mir“ für die Jahrgänge 3 und 4
URL:https://grundschule-erndtebrueck.de/termin/theaterpaedagogische-werkstatt/
END:VEVENT
BEGIN:VEVENT
DTSTART;TZID=Europe/Berlin:20250121T080000
DTEND;TZID=Europe/Berlin:20250121T130500
DTSTAMP:20260421T234242
CREATED:20250107T085746Z
LAST-MODIFIED:20250107T085817Z
UID:7131-1737446400-1737464700@grundschule-erndtebrueck.de
SUMMARY:Theaterpädagogische Werkstatt
DESCRIPTION:Präventionsprogramm „Mein Körper gehört mir“ für die Jahrgänge 3 und 4 \nTeil II
URL:https://grundschule-erndtebrueck.de/termin/theaterpaedagogische-werkstatt-2/
END:VEVENT
BEGIN:VEVENT
DTSTART;TZID=Europe/Berlin:20250128T080000
DTEND;TZID=Europe/Berlin:20250128T130500
DTSTAMP:20260421T234242
CREATED:20250107T085933Z
LAST-MODIFIED:20250107T085933Z
UID:7133-1738051200-1738069500@grundschule-erndtebrueck.de
SUMMARY:Theaterpädagogische Werkstatt
DESCRIPTION:Präventionsprogramm „Mein Körper gehört mir“ für die Jahrgänge 3 und 4 \nTeil III
URL:https://grundschule-erndtebrueck.de/termin/theaterpaedagogische-werkstatt-3/
END:VEVENT
END:VCALENDAR