BEGIN:VCALENDAR
VERSION:2.0
PRODID:-//Grundschule Erndtebrück - ECPv6.15.20//NONSGML v1.0//EN
CALSCALE:GREGORIAN
METHOD:PUBLISH
X-WR-CALNAME:Grundschule Erndtebrück
X-ORIGINAL-URL:https://grundschule-erndtebrueck.de
X-WR-CALDESC:Veranstaltungen für Grundschule Erndtebrück
REFRESH-INTERVAL;VALUE=DURATION:PT1H
X-Robots-Tag:noindex
X-PUBLISHED-TTL:PT1H
BEGIN:VTIMEZONE
TZID:Europe/Berlin
BEGIN:DAYLIGHT
TZOFFSETFROM:+0100
TZOFFSETTO:+0200
TZNAME:CEST
DTSTART:20240331T010000
END:DAYLIGHT
BEGIN:STANDARD
TZOFFSETFROM:+0200
TZOFFSETTO:+0100
TZNAME:CET
DTSTART:20241027T010000
END:STANDARD
BEGIN:DAYLIGHT
TZOFFSETFROM:+0100
TZOFFSETTO:+0200
TZNAME:CEST
DTSTART:20250330T010000
END:DAYLIGHT
BEGIN:STANDARD
TZOFFSETFROM:+0200
TZOFFSETTO:+0100
TZNAME:CET
DTSTART:20251026T010000
END:STANDARD
BEGIN:DAYLIGHT
TZOFFSETFROM:+0100
TZOFFSETTO:+0200
TZNAME:CEST
DTSTART:20260329T010000
END:DAYLIGHT
BEGIN:STANDARD
TZOFFSETFROM:+0200
TZOFFSETTO:+0100
TZNAME:CET
DTSTART:20261025T010000
END:STANDARD
END:VTIMEZONE
BEGIN:VEVENT
DTSTART;TZID=Europe/Berlin:20250519T080500
DTEND;TZID=Europe/Berlin:20250523T112500
DTSTAMP:20260421T204547
CREATED:20250219T095509Z
LAST-MODIFIED:20250219T095509Z
UID:7164-1747641900-1747999500@grundschule-erndtebrueck.de
SUMMARY:Projektwoche
DESCRIPTION:
URL:https://grundschule-erndtebrueck.de/termin/projektwoche/
END:VEVENT
END:VCALENDAR