BEGIN:VCALENDAR
VERSION:2.0
PRODID:-//Grundschule Erndtebrück - ECPv6.15.20//NONSGML v1.0//EN
CALSCALE:GREGORIAN
METHOD:PUBLISH
X-ORIGINAL-URL:https://grundschule-erndtebrueck.de
X-WR-CALDESC:Veranstaltungen für Grundschule Erndtebrück
REFRESH-INTERVAL;VALUE=DURATION:PT1H
X-Robots-Tag:noindex
X-PUBLISHED-TTL:PT1H
BEGIN:VTIMEZONE
TZID:Europe/Berlin
BEGIN:DAYLIGHT
TZOFFSETFROM:+0100
TZOFFSETTO:+0200
TZNAME:CEST
DTSTART:20240331T010000
END:DAYLIGHT
BEGIN:STANDARD
TZOFFSETFROM:+0200
TZOFFSETTO:+0100
TZNAME:CET
DTSTART:20241027T010000
END:STANDARD
BEGIN:DAYLIGHT
TZOFFSETFROM:+0100
TZOFFSETTO:+0200
TZNAME:CEST
DTSTART:20250330T010000
END:DAYLIGHT
BEGIN:STANDARD
TZOFFSETFROM:+0200
TZOFFSETTO:+0100
TZNAME:CET
DTSTART:20251026T010000
END:STANDARD
BEGIN:DAYLIGHT
TZOFFSETFROM:+0100
TZOFFSETTO:+0200
TZNAME:CEST
DTSTART:20260329T010000
END:DAYLIGHT
BEGIN:STANDARD
TZOFFSETFROM:+0200
TZOFFSETTO:+0100
TZNAME:CET
DTSTART:20261025T010000
END:STANDARD
END:VTIMEZONE
BEGIN:VEVENT
DTSTART;TZID=Europe/Berlin:20250326T080000
DTEND;TZID=Europe/Berlin:20250326T112500
DTSTAMP:20260421T223045
CREATED:20250219T093559Z
LAST-MODIFIED:20250317T105113Z
UID:7142-1742976000-1742988300@grundschule-erndtebrueck.de
SUMMARY:Aktion Zahngesundheit
DESCRIPTION:jede Klasse bekommt im Rahmen der Zahngesundheit einen Termin
URL:https://grundschule-erndtebrueck.de/termin/aktion-zahngesundheit-3/
END:VEVENT
BEGIN:VEVENT
DTSTART;TZID=Europe/Berlin:20250326T080000
DTEND;TZID=Europe/Berlin:20250326T130500
DTSTAMP:20260421T223045
CREATED:20250219T093809Z
LAST-MODIFIED:20250219T093809Z
UID:7146-1742976000-1742994300@grundschule-erndtebrueck.de
SUMMARY:Schwimmwettkampf in Dahlbruch
DESCRIPTION:ausgewählte Schwimmer*innen nehmen an der Veranstaltung teil
URL:https://grundschule-erndtebrueck.de/termin/schwimmwettkampf-in-dahlbruch/
END:VEVENT
BEGIN:VEVENT
DTSTART;TZID=Europe/Berlin:20250326T183000
DTEND;TZID=Europe/Berlin:20250326T200000
DTSTAMP:20260421T223045
CREATED:20250219T094037Z
LAST-MODIFIED:20250219T095814Z
UID:7148-1743013800-1743019200@grundschule-erndtebrueck.de
SUMMARY:Elternabend Jahrgang 4
DESCRIPTION:Infos zum Fahrradführerschein
URL:https://grundschule-erndtebrueck.de/termin/elternabend-jahrgang-4/
END:VEVENT
END:VCALENDAR